BEGIN:VCALENDAR
VERSION:2.0
PRODID:-//Twist Out Cancer - ECPv6.15.20//NONSGML v1.0//EN
CALSCALE:GREGORIAN
METHOD:PUBLISH
X-ORIGINAL-URL:https://twistoutcancer.org
X-WR-CALDESC:Events for Twist Out Cancer
REFRESH-INTERVAL;VALUE=DURATION:PT1H
X-Robots-Tag:noindex
X-PUBLISHED-TTL:PT1H
BEGIN:VTIMEZONE
TZID:America/Chicago
BEGIN:DAYLIGHT
TZOFFSETFROM:-0600
TZOFFSETTO:-0500
TZNAME:CDT
DTSTART:20230312T080000
END:DAYLIGHT
BEGIN:STANDARD
TZOFFSETFROM:-0500
TZOFFSETTO:-0600
TZNAME:CST
DTSTART:20231105T070000
END:STANDARD
BEGIN:DAYLIGHT
TZOFFSETFROM:-0600
TZOFFSETTO:-0500
TZNAME:CDT
DTSTART:20240310T080000
END:DAYLIGHT
BEGIN:STANDARD
TZOFFSETFROM:-0500
TZOFFSETTO:-0600
TZNAME:CST
DTSTART:20241103T070000
END:STANDARD
BEGIN:DAYLIGHT
TZOFFSETFROM:-0600
TZOFFSETTO:-0500
TZNAME:CDT
DTSTART:20250309T080000
END:DAYLIGHT
BEGIN:STANDARD
TZOFFSETFROM:-0500
TZOFFSETTO:-0600
TZNAME:CST
DTSTART:20251102T070000
END:STANDARD
END:VTIMEZONE
BEGIN:VEVENT
DTSTART;TZID=America/Chicago:20240414T113000
DTEND;TZID=America/Chicago:20240414T123000
DTSTAMP:20260422T122547
CREATED:20240208T143635Z
LAST-MODIFIED:20250523T133220Z
UID:10000093-1713094200-1713097800@twistoutcancer.org
SUMMARY:Come out and sweat with Twist Out Cancer + CrossTown Fitness
DESCRIPTION:Come out and sweat with Twist Out Cancer + CrossTown Fitness \nDate: Sunday\, April 14th\, 2024 \nTime: 11:30-12:30 CST   PLEASE PLAN TO ARRIVE AT 11:15am.  \nLocation: CTF Northside  3600 N Halsted St\, Chicago\, IL 60613 \nAddress: 3600 N Halsted St\, Chicago\, IL 60613 \nInstructor: Caullen Hudson \nDonation: $35 per person- all proceeds will be directly donated to Twist Out Cancer \nCrossTown Fitness (@CTFChicago) is a Chicago based business that offers strength\, HIIT\, and cardio workout classes. CTF will be hosting a fun workout class to support TOC and will be donating all proceeds to support future Twist programs! If you are not interested in working out\, but are interested in coming out to support\, please join & cheer us on! \nAll participants MUST register here to participate!  \nQuestions? Email jacqueline@twistoutcancer.org
URL:https://twistoutcancer.org/event/crosstownfitness/
ATTACH;FMTTYPE=image/png:https://twistoutcancer.org/wp-content/uploads/2023/08/Screen-Shot-2023-08-17-at-5.10.30-PM.png
ORGANIZER;CN="Twist Out Cancer":MAILTO:jacqueline@twistoutcancer.org
END:VEVENT
END:VCALENDAR